BEGIN:VCALENDAR
PRODID:-//Cornell Cooperative Extension of Chenango County//NONSGML Cornell Cooperative Extension of Chenango County Events//EN
X-ORIGINAL-URL:
VERSION:2.0
CALSCALE:GREGORIAN
METHOD:PUBLISH
BEGIN:VEVENT
METHOD: PUBLISH
X-MS-OLK-FORCEINSPECTOROPEN:TRUE
DTSTART:20261019T180600
DTEND:20261019T210900
SUMMARY:Learn to Make Traditional Kimchi
DTSTAMP:20110121T170000
LAST-MODIFIED:20260413T140246
CREATED:20260413T140246
SEQUENCE:0
TRANSP:TRANSPARENT
UID:32935
LOCATION:
URL:http://ccechenango.org /events/2026/10/19/learn-to-make-traditional-kimchi
DESCRIPTION:&quot;Learn to make traditional kimchi—a spicy, tangy, umami-rich Korean condiment of fermented napa cabbage, garlic, ginger, and chili. In this hands-on workshop, you’ll go through the entire process from salting to packing. Take home a jar of your own kimchi to ferment and enjoy. No experience needed!&quot;
CLASS:PUBLIC
CATEGORIES:
STATUS:CONFIRMED
END:VEVENT
END:VCALENDAR
n/a