BEGIN:VCALENDAR
PRODID:-//Cornell Cooperative Extension of Chenango County//NONSGML Cornell Cooperative Extension of Chenango County Events//EN
X-ORIGINAL-URL:
VERSION:2.0
CALSCALE:GREGORIAN
METHOD:PUBLISH
BEGIN:VEVENT
METHOD: PUBLISH
X-MS-OLK-FORCEINSPECTOROPEN:TRUE
DTSTART:20260630T160400
DTEND:20260630T180600
SUMMARY:4-H Fun Night
DTSTAMP:20110121T170000
LAST-MODIFIED:20260407T111103
CREATED:20260407T111103
SEQUENCE:0
TRANSP:TRANSPARENT
UID:32891
LOCATION:
URL:http://ccechenango.org /events/2026/06/30/4-h-fun-night
DESCRIPTION:Come join fellow 4-H’ers for a night of fun, games and pizza! Youth will enjoy a variety of interactive activities, build friendships, and share plenty of laughs in a welcoming and energetic environment. It’s a great way to connect, unwind, and have a blast with friends!This event is free, but registration is required.&amp;nbsp;
CLASS:PUBLIC
CATEGORIES:
STATUS:CONFIRMED
END:VEVENT
END:VCALENDAR
n/a