BEGIN:VCALENDAR
PRODID:-//Cornell Cooperative Extension of Chenango County//NONSGML Cornell Cooperative Extension of Chenango County Events//EN
X-ORIGINAL-URL:
VERSION:2.0
CALSCALE:GREGORIAN
METHOD:PUBLISH
BEGIN:VEVENT
METHOD: PUBLISH
X-MS-OLK-FORCEINSPECTOROPEN:TRUE
DTSTART:20260530T121200
DTEND:20260530T150300
SUMMARY:2026 4-H Dairy Goat Clinic
DTSTAMP:20110121T170000
LAST-MODIFIED:20260422T121206
CREATED:20260422T121207
SEQUENCE:0
TRANSP:TRANSPARENT
UID:32981
LOCATION:
URL:http://ccechenango.org /events/2026/05/30/2026-4-h-dairy-goat-clinic
DESCRIPTION:Join us for a 4-H Dairy Goat Showmanship Clinic on May 30th at 12:00 PM at the Chenango County Fairgrounds! This hands-on clinic will cover clipping, hoof trimming, and showmanship. Youth will also have the opportunity to participate in a fun fitting competition and practice showmanship classes. This is a great opportunity for members of all experience levels to learn, practice, and build confidence in the ring.
CLASS:PUBLIC
CATEGORIES:
STATUS:CONFIRMED
END:VEVENT
END:VCALENDAR
n/a