BEGIN:VCALENDAR
PRODID:-//Cornell Cooperative Extension of Chenango County//NONSGML Cornell Cooperative Extension of Chenango County Events//EN
X-ORIGINAL-URL:
VERSION:2.0
CALSCALE:GREGORIAN
METHOD:PUBLISH
BEGIN:VEVENT
METHOD: PUBLISH
X-MS-OLK-FORCEINSPECTOROPEN:TRUE
DTSTART:20260519T180600
DTEND:20260519T200800
SUMMARY:2026 4-H Swine Clinic
DTSTAMP:20110121T170000
LAST-MODIFIED:20260422T111159
CREATED:20260422T111159
SEQUENCE:0
TRANSP:TRANSPARENT
UID:32979
LOCATION:
URL:http://ccechenango.org /events/2026/05/19/2026-4-h-swine-clinic
DESCRIPTION:Join us for a hands-on 4-H Swine Showmanship Clinic on Tuesday, May 19th at 6:00 PM at the Chenango County Fairgrounds led by experienced showman and breeders! This is a great opportunity for members of all experience levels to learn, practice, and build confidence in the ring.
CLASS:PUBLIC
CATEGORIES:
STATUS:CONFIRMED
END:VEVENT
END:VCALENDAR
n/a