BEGIN:VCALENDAR
PRODID:-//Cornell Cooperative Extension of Chenango County//NONSGML Cornell Cooperative Extension of Chenango County Events//EN
X-ORIGINAL-URL:
VERSION:2.0
CALSCALE:GREGORIAN
METHOD:PUBLISH
BEGIN:VEVENT
METHOD: PUBLISH
X-MS-OLK-FORCEINSPECTOROPEN:TRUE
DTSTART:20260516T111100
DTEND:20260516T130100
SUMMARY:2026 Meat Goat and Beef Clinic
DTSTAMP:20110121T170000
LAST-MODIFIED:20260422T111128
CREATED:20260422T111100
SEQUENCE:0
TRANSP:TRANSPARENT
UID:32977
LOCATION:
URL:http://ccechenango.org /events/2026/05/16/2026-meat-goat-and-beef-clinic
DESCRIPTION:Join us for a hands-on Meat Goat and Beef Clinic on May 16th at 11am, led by an experienced showman and breeder! This is a great opportunity for members of all experience levels to learn, practice, and build confidence in the ring.Location: Earlville, NYOpen to all enrolled 4-H&#39;ers.
CLASS:PUBLIC
CATEGORIES:
STATUS:CONFIRMED
END:VEVENT
END:VCALENDAR
n/a